BEGIN:VCALENDAR
VERSION:2.0
PRODID:-//Yieldhacker - ECPv6.15.20//NONSGML v1.0//EN
CALSCALE:GREGORIAN
METHOD:PUBLISH
X-ORIGINAL-URL:https://yieldhacker.com
X-WR-CALDESC:Events for Yieldhacker
REFRESH-INTERVAL;VALUE=DURATION:PT1H
X-Robots-Tag:noindex
X-PUBLISHED-TTL:PT1H
BEGIN:VTIMEZONE
TZID:Europe/Budapest
BEGIN:DAYLIGHT
TZOFFSETFROM:+0100
TZOFFSETTO:+0200
TZNAME:CEST
DTSTART:20250330T010000
END:DAYLIGHT
BEGIN:STANDARD
TZOFFSETFROM:+0200
TZOFFSETTO:+0100
TZNAME:CET
DTSTART:20251026T010000
END:STANDARD
BEGIN:DAYLIGHT
TZOFFSETFROM:+0100
TZOFFSETTO:+0200
TZNAME:CEST
DTSTART:20260329T010000
END:DAYLIGHT
BEGIN:STANDARD
TZOFFSETFROM:+0200
TZOFFSETTO:+0100
TZNAME:CET
DTSTART:20261025T010000
END:STANDARD
BEGIN:DAYLIGHT
TZOFFSETFROM:+0100
TZOFFSETTO:+0200
TZNAME:CEST
DTSTART:20270328T010000
END:DAYLIGHT
BEGIN:STANDARD
TZOFFSETFROM:+0200
TZOFFSETTO:+0100
TZNAME:CET
DTSTART:20271031T010000
END:STANDARD
END:VTIMEZONE
BEGIN:VEVENT
DTSTART;VALUE=DATE:20260321
DTEND;VALUE=DATE:20260327
DTSTAMP:20260419T145024
CREATED:20260325T162321Z
LAST-MODIFIED:20260325T162321Z
UID:698-1774051200-1774569599@yieldhacker.com
SUMMARY:USCAP 2026 - Pathology
DESCRIPTION:
URL:https://yieldhacker.com/event/uscap-2026-pathology/
LOCATION:Henry B. González Convention Center\, San Antonio\, TX\, United States
END:VEVENT
BEGIN:VEVENT
DTSTART;VALUE=DATE:20260323
DTEND;VALUE=DATE:20260327
DTSTAMP:20260419T145024
CREATED:20260324T102733Z
LAST-MODIFIED:20260324T124723Z
UID:586-1774224000-1774569599@yieldhacker.com
SUMMARY:RSAC 2026
DESCRIPTION:
URL:https://yieldhacker.com/event/rsac-2026/
LOCATION:Moscone Center\, San Francisco\, CA\, United States
END:VEVENT
BEGIN:VEVENT
DTSTART;VALUE=DATE:20260408
DTEND;VALUE=DATE:20260410
DTSTAMP:20260419T145024
CREATED:20260324T103021Z
LAST-MODIFIED:20260324T124612Z
UID:588-1775606400-1775779199@yieldhacker.com
SUMMARY:Midwest Defense Innovation Summit
DESCRIPTION:
URL:https://yieldhacker.com/event/midwest-defense-innovation-summit/
LOCATION:Crowne Plaza Union Station\, Indianapolis\, IN\, United States
END:VEVENT
BEGIN:VEVENT
DTSTART;VALUE=DATE:20260422
DTEND;VALUE=DATE:20260424
DTSTAMP:20260419T145024
CREATED:20260324T103124Z
LAST-MODIFIED:20260324T104129Z
UID:590-1776816000-1776988799@yieldhacker.com
SUMMARY:MD&M South
DESCRIPTION:
URL:https://yieldhacker.com/event/mdm-south/
LOCATION:Charlotte Convention Center\, Charlotte\, NC\, United States
END:VEVENT
BEGIN:VEVENT
DTSTART;VALUE=DATE:20260423
DTEND;VALUE=DATE:20260425
DTSTAMP:20260419T145024
CREATED:20260324T103214Z
LAST-MODIFIED:20260324T124231Z
UID:592-1776902400-1777075199@yieldhacker.com
SUMMARY:eMerge Americas
DESCRIPTION:
URL:https://yieldhacker.com/event/emerge-americas/
LOCATION:Miami Beach Convention Center\, Miami\, FL\, United States
END:VEVENT
BEGIN:VEVENT
DTSTART;VALUE=DATE:20260427
DTEND;VALUE=DATE:20260429
DTSTAMP:20260419T145024
CREATED:20260324T125303Z
LAST-MODIFIED:20260324T125900Z
UID:599-1777248000-1777420799@yieldhacker.com
SUMMARY:Digital Healthcare Innovation Summit (DHIS)
DESCRIPTION:
URL:https://yieldhacker.com/event/digital-healthcare-innovation-summit-dhis/
LOCATION:Seaport Hotel\, Boston\, MA\, United States
END:VEVENT
BEGIN:VEVENT
DTSTART;VALUE=DATE:20260428
DTEND;VALUE=DATE:20260429
DTSTAMP:20260419T145024
CREATED:20260413T073028Z
LAST-MODIFIED:20260413T073028Z
UID:738-1777334400-1777420799@yieldhacker.com
SUMMARY:eIDAS Summit
DESCRIPTION:
URL:https://yieldhacker.com/event/eidas-summit/
LOCATION:Representation of the State of Baden-Württemberg\, Berlin\, Germany
END:VEVENT
BEGIN:VEVENT
DTSTART;VALUE=DATE:20260428
DTEND;VALUE=DATE:20260501
DTSTAMP:20260419T145024
CREATED:20260324T125518Z
LAST-MODIFIED:20260324T125823Z
UID:602-1777334400-1777593599@yieldhacker.com
SUMMARY:National Cybersecurity Show
DESCRIPTION:
URL:https://yieldhacker.com/event/national-cybersecurity-show/
LOCATION:NEC\, Birmingham\, United Kingdom
END:VEVENT
BEGIN:VEVENT
DTSTART;VALUE=DATE:20260428
DTEND;VALUE=DATE:20260501
DTSTAMP:20260419T145024
CREATED:20260324T125728Z
LAST-MODIFIED:20260324T125728Z
UID:605-1777334400-1777593599@yieldhacker.com
SUMMARY:Milipol TechX Summit 2026 - MTX
DESCRIPTION:
URL:https://yieldhacker.com/event/milipol-techx-summit-2026-mtx/
LOCATION:Sands Expo and Convention Centre\, Singapore\, Singapore
END:VEVENT
BEGIN:VEVENT
DTSTART;VALUE=DATE:20260512
DTEND;VALUE=DATE:20260515
DTSTAMP:20260419T145024
CREATED:20260413T071719Z
LAST-MODIFIED:20260413T071719Z
UID:726-1778544000-1778803199@yieldhacker.com
SUMMARY:Marketplace Risk Management Conference
DESCRIPTION:
URL:https://yieldhacker.com/event/marketplace-risk-management-conference/
LOCATION:Convene\, San Francisco\, CA\, United States
END:VEVENT
BEGIN:VEVENT
DTSTART;VALUE=DATE:20260518
DTEND;VALUE=DATE:20260519
DTSTAMP:20260419T145024
CREATED:20260413T071226Z
LAST-MODIFIED:20260413T071226Z
UID:720-1779062400-1779148799@yieldhacker.com
SUMMARY:TSPA EMEA Member Summit
DESCRIPTION:
URL:https://yieldhacker.com/event/tspa-emea-member-summit/
LOCATION:The Gibson Hotel\, Dublin\, Ireland
END:VEVENT
BEGIN:VEVENT
DTSTART;VALUE=DATE:20260519
DTEND;VALUE=DATE:20260522
DTSTAMP:20260419T145024
CREATED:20260324T130356Z
LAST-MODIFIED:20260324T130356Z
UID:610-1779148800-1779407999@yieldhacker.com
SUMMARY:Bio-IT World Conference & Expo
DESCRIPTION:
URL:https://yieldhacker.com/event/bio-it-world-conference-expo/
LOCATION:Omni Boston Hotel at the Seaport\, Boston\, MA\, United States
END:VEVENT
BEGIN:VEVENT
DTSTART;VALUE=DATE:20260520
DTEND;VALUE=DATE:20260521
DTSTAMP:20260419T145024
CREATED:20260324T133256Z
LAST-MODIFIED:20260324T133256Z
UID:636-1779235200-1779321599@yieldhacker.com
SUMMARY:RE+ Portugal (Renewable Energy)
DESCRIPTION:
URL:https://yieldhacker.com/event/re-portugal-renewable-energy/
LOCATION:Alfândega Congress Center\, Porto\, Portugal
END:VEVENT
BEGIN:VEVENT
DTSTART;VALUE=DATE:20260520
DTEND;VALUE=DATE:20260521
DTSTAMP:20260419T145024
CREATED:20260324T134738Z
LAST-MODIFIED:20260324T134738Z
UID:650-1779235200-1779321599@yieldhacker.com
SUMMARY:ProductCon New York
DESCRIPTION:
URL:https://yieldhacker.com/event/productcon-new-york/
LOCATION:Metropolitan Pavilion\, New York\, NY\, United States
END:VEVENT
BEGIN:VEVENT
DTSTART;VALUE=DATE:20260601
DTEND;VALUE=DATE:20260603
DTSTAMP:20260419T145024
CREATED:20260324T130707Z
LAST-MODIFIED:20260324T130707Z
UID:613-1780272000-1780444799@yieldhacker.com
SUMMARY:Med Tech MVP - Venture & Partnering Conference
DESCRIPTION:
URL:https://yieldhacker.com/event/med-tech-mvp-venture-partnering-conference/
LOCATION:The Royal Sonesta Minneapolis Downtown\, Minneapolis\, MN\, United States
END:VEVENT
BEGIN:VEVENT
DTSTART;VALUE=DATE:20260608
DTEND;VALUE=DATE:20260613
DTSTAMP:20260419T145024
CREATED:20260324T134448Z
LAST-MODIFIED:20260324T134448Z
UID:647-1780876800-1781308799@yieldhacker.com
SUMMARY:London Tech Week
DESCRIPTION:
URL:https://yieldhacker.com/event/london-tech-week/
LOCATION:Olympia London\, London\, United Kingdom
END:VEVENT
BEGIN:VEVENT
DTSTART;VALUE=DATE:20260609
DTEND;VALUE=DATE:20260612
DTSTAMP:20260419T145024
CREATED:20260324T134153Z
LAST-MODIFIED:20260324T134153Z
UID:644-1780963200-1781222399@yieldhacker.com
SUMMARY:The Battery Show
DESCRIPTION:
URL:https://yieldhacker.com/event/the-battery-show/
LOCATION:Messe Stuttgart\, Stuttgart\, Germany
END:VEVENT
BEGIN:VEVENT
DTSTART;VALUE=DATE:20260615
DTEND;VALUE=DATE:20260618
DTSTAMP:20260419T145024
CREATED:20260324T131500Z
LAST-MODIFIED:20260324T132226Z
UID:619-1781481600-1781740799@yieldhacker.com
SUMMARY:Intersolar & Energy Storage North America (IESNA) Midwest
DESCRIPTION:
URL:https://yieldhacker.com/event/iesna-midwest/
LOCATION:Donald E. Stephens Convention Center\, Rosemont\, IL\, United States
END:VEVENT
BEGIN:VEVENT
DTSTART;VALUE=DATE:20260615
DTEND;VALUE=DATE:20260619
DTSTAMP:20260419T145024
CREATED:20260324T140648Z
LAST-MODIFIED:20260324T140648Z
UID:665-1781481600-1781827199@yieldhacker.com
SUMMARY:HLTH Europe
DESCRIPTION:
URL:https://yieldhacker.com/event/hlth-europe/
LOCATION:RAI Convention Centre\, Amsterdam\, Netherlands
END:VEVENT
BEGIN:VEVENT
DTSTART;VALUE=DATE:20260617
DTEND;VALUE=DATE:20260620
DTSTAMP:20260419T145024
CREATED:20260325T161724Z
LAST-MODIFIED:20260325T161724Z
UID:696-1781654400-1781913599@yieldhacker.com
SUMMARY:WHX Miami - World Health Expo
DESCRIPTION:
URL:https://yieldhacker.com/event/whx-miami-world-health-expo/
LOCATION:Miami Beach Convention Center\, Miami\, FL\, United States
END:VEVENT
BEGIN:VEVENT
DTSTART;VALUE=DATE:20260617
DTEND;VALUE=DATE:20260621
DTSTAMP:20260419T145024
CREATED:20260324T135001Z
LAST-MODIFIED:20260324T135001Z
UID:653-1781654400-1781999999@yieldhacker.com
SUMMARY:Vivatech Paris
DESCRIPTION:
URL:https://yieldhacker.com/event/vivatech-paris/
LOCATION:Paris Expo Porte de Versailles\, Paris\, France
END:VEVENT
BEGIN:VEVENT
DTSTART;VALUE=DATE:20260630
DTEND;VALUE=DATE:20260702
DTSTAMP:20260419T145024
CREATED:20260324T133026Z
LAST-MODIFIED:20260324T133026Z
UID:633-1782777600-1782950399@yieldhacker.com
SUMMARY:RE+ Energy Storage
DESCRIPTION:
URL:https://yieldhacker.com/event/re-energy-storage/
LOCATION:Sacramento Convention Center\, Sacramento\, CA\, United States
END:VEVENT
BEGIN:VEVENT
DTSTART;VALUE=DATE:20260630
DTEND;VALUE=DATE:20260702
DTSTAMP:20260419T145024
CREATED:20260413T070418Z
LAST-MODIFIED:20260413T070418Z
UID:715-1782777600-1782950399@yieldhacker.com
SUMMARY:GITEX AI Europe
DESCRIPTION:
URL:https://yieldhacker.com/event/gitex-ai-europe/
LOCATION:Messe Berlin\, Berlin\, Germany
END:VEVENT
BEGIN:VEVENT
DTSTART;VALUE=DATE:20260713
DTEND;VALUE=DATE:20260718
DTSTAMP:20260419T145024
CREATED:20260413T072803Z
LAST-MODIFIED:20260413T072803Z
UID:736-1783900800-1784332799@yieldhacker.com
SUMMARY:Esri User Conference
DESCRIPTION:
URL:https://yieldhacker.com/event/esri-user-conference/
LOCATION:San Diego Convention Center\, San Diego\, CA\, United States
END:VEVENT
BEGIN:VEVENT
DTSTART;VALUE=DATE:20260720
DTEND;VALUE=DATE:20260723
DTSTAMP:20260419T145024
CREATED:20260413T071036Z
LAST-MODIFIED:20260413T071036Z
UID:717-1784505600-1784764799@yieldhacker.com
SUMMARY:TrustCon 2026
DESCRIPTION:
URL:https://yieldhacker.com/event/trustcon-2026/
LOCATION:Hyatt Regency San Francisco Embarcadero\, San Francisco\, CA\, United States
END:VEVENT
BEGIN:VEVENT
DTSTART;VALUE=DATE:20260901
DTEND;VALUE=DATE:20260903
DTSTAMP:20260419T145024
CREATED:20260324T131739Z
LAST-MODIFIED:20260324T132218Z
UID:622-1788220800-1788393599@yieldhacker.com
SUMMARY:Intersolar & Energy Storage North America (IESNA) Texas
DESCRIPTION:
URL:https://yieldhacker.com/event/iesna-texas/
LOCATION:Dallas Convention Center\, Dallas\, TX\, United States
END:VEVENT
BEGIN:VEVENT
DTSTART;VALUE=DATE:20260904
DTEND;VALUE=DATE:20260909
DTSTAMP:20260419T145024
CREATED:20260324T133609Z
LAST-MODIFIED:20260324T133609Z
UID:639-1788480000-1788911999@yieldhacker.com
SUMMARY:IFA 2026 (home & consumer tech)
DESCRIPTION:
URL:https://yieldhacker.com/event/ifa-2026-home-consumer-tech/
LOCATION:Messe Berlin\, Berlin\, Germany
END:VEVENT
BEGIN:VEVENT
DTSTART;VALUE=DATE:20260912
DTEND;VALUE=DATE:20260917
DTSTAMP:20260419T145024
CREATED:20260325T163138Z
LAST-MODIFIED:20260325T163138Z
UID:704-1789171200-1789603199@yieldhacker.com
SUMMARY:ESP - European Congress of Pathology
DESCRIPTION:
URL:https://yieldhacker.com/event/esp-european-congress-of-pathology/
LOCATION:Stockholmsmässan\, Stockholm\, Sweden
END:VEVENT
BEGIN:VEVENT
DTSTART;VALUE=DATE:20260914
DTEND;VALUE=DATE:20260917
DTSTAMP:20260419T145024
CREATED:20260413T071907Z
LAST-MODIFIED:20260413T071907Z
UID:729-1789344000-1789603199@yieldhacker.com
SUMMARY:Marketplace Risk New York Conference
DESCRIPTION:
URL:https://yieldhacker.com/event/marketplace-risk-new-york-conference/
LOCATION:Convene – 237 Park Ave\, New York\, NY\, United States
END:VEVENT
BEGIN:VEVENT
DTSTART;VALUE=DATE:20260915
DTEND;VALUE=DATE:20260918
DTSTAMP:20260419T145024
CREATED:20260324T142206Z
LAST-MODIFIED:20260324T142206Z
UID:677-1789430400-1789689599@yieldhacker.com
SUMMARY:NRF 26 Europe - Retail's Big Show
DESCRIPTION:
URL:https://yieldhacker.com/event/nrf-26-europe-retails-big-show/
LOCATION:Paris Expo Porte de Versailles\, Paris\, France
END:VEVENT
END:VCALENDAR