BEGIN:VCALENDAR
VERSION:2.0
PRODID:-//Yieldhacker - ECPv6.15.20//NONSGML v1.0//EN
CALSCALE:GREGORIAN
METHOD:PUBLISH
X-WR-CALNAME:Yieldhacker
X-ORIGINAL-URL:https://yieldhacker.com
X-WR-CALDESC:Events for Yieldhacker
REFRESH-INTERVAL;VALUE=DURATION:PT1H
X-Robots-Tag:noindex
X-PUBLISHED-TTL:PT1H
BEGIN:VTIMEZONE
TZID:Europe/Budapest
BEGIN:DAYLIGHT
TZOFFSETFROM:+0100
TZOFFSETTO:+0200
TZNAME:CEST
DTSTART:20260329T010000
END:DAYLIGHT
BEGIN:STANDARD
TZOFFSETFROM:+0200
TZOFFSETTO:+0100
TZNAME:CET
DTSTART:20261025T010000
END:STANDARD
BEGIN:DAYLIGHT
TZOFFSETFROM:+0100
TZOFFSETTO:+0200
TZNAME:CEST
DTSTART:20270328T010000
END:DAYLIGHT
BEGIN:STANDARD
TZOFFSETFROM:+0200
TZOFFSETTO:+0100
TZNAME:CET
DTSTART:20271031T010000
END:STANDARD
BEGIN:DAYLIGHT
TZOFFSETFROM:+0100
TZOFFSETTO:+0200
TZNAME:CEST
DTSTART:20280326T010000
END:DAYLIGHT
BEGIN:STANDARD
TZOFFSETFROM:+0200
TZOFFSETTO:+0100
TZNAME:CET
DTSTART:20281029T010000
END:STANDARD
END:VTIMEZONE
BEGIN:VEVENT
DTSTART;VALUE=DATE:20270111
DTEND;VALUE=DATE:20270114
DTSTAMP:20260419T210013
CREATED:20260324T142519Z
LAST-MODIFIED:20260324T142519Z
UID:679-1799625600-1799884799@yieldhacker.com
SUMMARY:NRF 26 - Retail's Big Show
DESCRIPTION:
URL:https://yieldhacker.com/event/nrf-26-retails-big-show/
LOCATION:Jacob K. Javits Convention Center\, New York\, NY\, United States
END:VEVENT
BEGIN:VEVENT
DTSTART;VALUE=DATE:20270208
DTEND;VALUE=DATE:20270212
DTSTAMP:20260419T210013
CREATED:20260324T132155Z
LAST-MODIFIED:20260324T132155Z
UID:625-1802044800-1802390399@yieldhacker.com
SUMMARY:Intersolar & Energy Storage North America (IESNA) Flagship
DESCRIPTION:
URL:https://yieldhacker.com/event/intersolar-energy-storage-north-america-iesna-flagship/
LOCATION:San Diego Convention Center\, San Diego\, CA\, United States
END:VEVENT
BEGIN:VEVENT
DTSTART;VALUE=DATE:20270314
DTEND;VALUE=DATE:20270318
DTSTAMP:20260419T210013
CREATED:20260324T141232Z
LAST-MODIFIED:20260324T141232Z
UID:671-1804982400-1805327999@yieldhacker.com
SUMMARY:VIVE (Health Tech)
DESCRIPTION:
URL:https://yieldhacker.com/event/vive-health-tech/
LOCATION:Nashville Music City Center\, Nashville\, TN\, United States
END:VEVENT
BEGIN:VEVENT
DTSTART;VALUE=DATE:20270405
DTEND;VALUE=DATE:20270409
DTSTAMP:20260419T210013
CREATED:20260324T135343Z
LAST-MODIFIED:20260324T135343Z
UID:656-1806883200-1807228799@yieldhacker.com
SUMMARY:HIMSS Global Health Conference & Exhibition
DESCRIPTION:
URL:https://yieldhacker.com/event/himss-global-health-conference-exhibition/
LOCATION:McCormick Place Convention Center\, Chicago\, IL\, United States
END:VEVENT
END:VCALENDAR